BEGIN:VCALENDAR
VERSION:2.0
PRODID:-//CEDARE - ECPv6.15.20//NONSGML v1.0//EN
CALSCALE:GREGORIAN
METHOD:PUBLISH
X-WR-CALNAME:CEDARE
X-ORIGINAL-URL:https://2025.cedare.org
X-WR-CALDESC:Events for CEDARE
REFRESH-INTERVAL;VALUE=DURATION:PT1H
X-Robots-Tag:noindex
X-PUBLISHED-TTL:PT1H
BEGIN:VTIMEZONE
TZID:Africa/Cairo
BEGIN:DAYLIGHT
TZOFFSETFROM:+0200
TZOFFSETTO:+0300
TZNAME:EEST
DTSTART:20250424T220000
END:DAYLIGHT
BEGIN:STANDARD
TZOFFSETFROM:+0300
TZOFFSETTO:+0200
TZNAME:EET
DTSTART:20251030T210000
END:STANDARD
BEGIN:DAYLIGHT
TZOFFSETFROM:+0200
TZOFFSETTO:+0300
TZNAME:EEST
DTSTART:20260423T220000
END:DAYLIGHT
BEGIN:STANDARD
TZOFFSETFROM:+0300
TZOFFSETTO:+0200
TZNAME:EET
DTSTART:20261029T210000
END:STANDARD
BEGIN:DAYLIGHT
TZOFFSETFROM:+0200
TZOFFSETTO:+0300
TZNAME:EEST
DTSTART:20270429T220000
END:DAYLIGHT
BEGIN:STANDARD
TZOFFSETFROM:+0300
TZOFFSETTO:+0200
TZNAME:EET
DTSTART:20271028T210000
END:STANDARD
END:VTIMEZONE
BEGIN:VEVENT
DTSTART;VALUE=DATE:20260422
DTEND;VALUE=DATE:20260423
DTSTAMP:20260419T172828
CREATED:20250929T083917Z
LAST-MODIFIED:20250929T083917Z
UID:9458-1776816000-1776902399@2025.cedare.org
SUMMARY:International Mother Earth Day
DESCRIPTION:Earth Day is a name used for two similar global observances. While some people celebrate Earth Day around the time of the March Equinox\, others observe the occasion on April 22 each year. \nEarth Day and aims to inspire awareness and appreciation for Earth’s environment. The United Nations calls the event International Mother Earth Day. \nBackground\nThe April 22 Earth Day\, founded by Senator Gaylord Nelson\, was first organized in 1970 to promote ecology and respect for life on the planet as well as to encourage awareness of the growing problems of air\, water\, and soil pollution.
URL:https://2025.cedare.org/event/international-mother-earth-day/
ATTACH;FMTTYPE=image/png:https://2025.cedare.org/wp-content/uploads/2025/08/Frame-38.png
END:VEVENT
END:VCALENDAR