BEGIN:VCALENDAR
VERSION:2.0
PRODID:-//CEDARE - ECPv6.15.20//NONSGML v1.0//EN
CALSCALE:GREGORIAN
METHOD:PUBLISH
X-ORIGINAL-URL:https://2025.cedare.org
X-WR-CALDESC:Events for CEDARE
REFRESH-INTERVAL;VALUE=DURATION:PT1H
X-Robots-Tag:noindex
X-PUBLISHED-TTL:PT1H
BEGIN:VTIMEZONE
TZID:Africa/Cairo
BEGIN:DAYLIGHT
TZOFFSETFROM:+0200
TZOFFSETTO:+0300
TZNAME:EEST
DTSTART:20250424T220000
END:DAYLIGHT
BEGIN:STANDARD
TZOFFSETFROM:+0300
TZOFFSETTO:+0200
TZNAME:EET
DTSTART:20251030T210000
END:STANDARD
BEGIN:DAYLIGHT
TZOFFSETFROM:+0200
TZOFFSETTO:+0300
TZNAME:EEST
DTSTART:20260423T220000
END:DAYLIGHT
BEGIN:STANDARD
TZOFFSETFROM:+0300
TZOFFSETTO:+0200
TZNAME:EET
DTSTART:20261029T210000
END:STANDARD
BEGIN:DAYLIGHT
TZOFFSETFROM:+0200
TZOFFSETTO:+0300
TZNAME:EEST
DTSTART:20270429T220000
END:DAYLIGHT
BEGIN:STANDARD
TZOFFSETFROM:+0300
TZOFFSETTO:+0200
TZNAME:EET
DTSTART:20271028T210000
END:STANDARD
END:VTIMEZONE
BEGIN:VEVENT
DTSTART;VALUE=DATE:20260608
DTEND;VALUE=DATE:20260609
DTSTAMP:20260419T204208
CREATED:20250929T090519Z
LAST-MODIFIED:20250929T090519Z
UID:9466-1780876800-1780963199@2025.cedare.org
SUMMARY:World Oceans Day
DESCRIPTION:World Oceans Day was first introduced in 1992 to raise awareness of the crucial role the sea plays as sources of food\, oxygen and medicine. It was officially recognized by the United Nations (UN) in 2008 and is observed on June 8 each year. \nBackground\nThe world’s oceans play a key role for life on Earth. According to the UN\, they are “the lungs of our planet\, providing most of the oxygen we breathe\, [as well as] a major source of food and medicines and a critical part of the biosphere.” \nIn the past few decades\, the threats from pollution\, overfishing and other forms of exploitation to marine habitats have increased dramatically.
URL:https://2025.cedare.org/event/world-oceans-day/
ATTACH;FMTTYPE=image/png:https://2025.cedare.org/wp-content/uploads/2025/08/Frame-38.png
END:VEVENT
END:VCALENDAR