BEGIN:VCALENDAR
VERSION:2.0
PRODID:-//CEDARE - ECPv6.15.20//NONSGML v1.0//EN
CALSCALE:GREGORIAN
METHOD:PUBLISH
X-WR-CALNAME:CEDARE
X-ORIGINAL-URL:https://2025.cedare.org
X-WR-CALDESC:Events for CEDARE
REFRESH-INTERVAL;VALUE=DURATION:PT1H
X-Robots-Tag:noindex
X-PUBLISHED-TTL:PT1H
BEGIN:VTIMEZONE
TZID:Africa/Cairo
BEGIN:DAYLIGHT
TZOFFSETFROM:+0200
TZOFFSETTO:+0300
TZNAME:EEST
DTSTART:20250424T220000
END:DAYLIGHT
BEGIN:STANDARD
TZOFFSETFROM:+0300
TZOFFSETTO:+0200
TZNAME:EET
DTSTART:20251030T210000
END:STANDARD
BEGIN:DAYLIGHT
TZOFFSETFROM:+0200
TZOFFSETTO:+0300
TZNAME:EEST
DTSTART:20260423T220000
END:DAYLIGHT
BEGIN:STANDARD
TZOFFSETFROM:+0300
TZOFFSETTO:+0200
TZNAME:EET
DTSTART:20261029T210000
END:STANDARD
BEGIN:DAYLIGHT
TZOFFSETFROM:+0200
TZOFFSETTO:+0300
TZNAME:EEST
DTSTART:20270429T220000
END:DAYLIGHT
BEGIN:STANDARD
TZOFFSETFROM:+0300
TZOFFSETTO:+0200
TZNAME:EET
DTSTART:20271028T210000
END:STANDARD
END:VTIMEZONE
BEGIN:VEVENT
DTSTART;VALUE=DATE:20260617
DTEND;VALUE=DATE:20260618
DTSTAMP:20260419T204013
CREATED:20250929T091845Z
LAST-MODIFIED:20250929T092126Z
UID:9469-1781654400-1781740799@2025.cedare.org
SUMMARY:Desertification and Drought Day (UNCCD)
DESCRIPTION:The United Nations’ World Day to Combat Desertification and Drought is annually observed on June 17 to highlight the urgent need to curb the desertification process. It also aims to strengthen the visibility of the drylands issue on the international environmental agenda. \nBackground\nIn December 1994\, the United Nations General Assembly declared June 17 the World Day to Combat Desertification and Drought. The assembly acknowledged that desertification and drought were global problems because they affected all regions of the world. The assembly also realized that joint action by the international community was needed to combat desertification and drought\, particularly in Africa. \nDesertification and Drought Day was officially declared by the UN General Assembly as “World Day to Combat Desertification and Drought” (Resolution A/RES/49/115). Since 2019\, it has been known simply as Desertification and Drought Day and is observed on 17 June to promote public awareness of international efforts to combat desertification. \nEach year\, a country is selected to host global celebrations for Desertification and Drought Day. The host country works with the UNCCD Secretariat to organize a programme of activities aimed at policymakers\, other key stakeholders and the public at large in support of the Day’s objectives. In addition to the main global observance event\, countries and communities around the world organize activities to mark Desertification and Drought Day. \nPrevious global Desertification and Drought Day celebrations took place in Germany (2024)\, USA (2023)\, Spain (2022)\, Costa Rica (2021)\, Republic of Korea (2020)\, Türkiye (2019)\, Ecuador (2018) and Burkina Faso (2017). \n.
URL:https://2025.cedare.org/event/desertification-and-drought-day-unccd/
ATTACH;FMTTYPE=image/png:https://2025.cedare.org/wp-content/uploads/2025/08/Frame-38.png
END:VEVENT
END:VCALENDAR