BEGIN:VCALENDAR
VERSION:2.0
PRODID:-//CEDARE - ECPv6.15.20//NONSGML v1.0//EN
CALSCALE:GREGORIAN
METHOD:PUBLISH
X-ORIGINAL-URL:https://2025.cedare.org
X-WR-CALDESC:Events for CEDARE
REFRESH-INTERVAL;VALUE=DURATION:PT1H
X-Robots-Tag:noindex
X-PUBLISHED-TTL:PT1H
BEGIN:VTIMEZONE
TZID:Africa/Cairo
BEGIN:DAYLIGHT
TZOFFSETFROM:+0200
TZOFFSETTO:+0300
TZNAME:EEST
DTSTART:20240425T220000
END:DAYLIGHT
BEGIN:STANDARD
TZOFFSETFROM:+0300
TZOFFSETTO:+0200
TZNAME:EET
DTSTART:20241031T210000
END:STANDARD
BEGIN:DAYLIGHT
TZOFFSETFROM:+0200
TZOFFSETTO:+0300
TZNAME:EEST
DTSTART:20250424T220000
END:DAYLIGHT
BEGIN:STANDARD
TZOFFSETFROM:+0300
TZOFFSETTO:+0200
TZNAME:EET
DTSTART:20251030T210000
END:STANDARD
BEGIN:DAYLIGHT
TZOFFSETFROM:+0200
TZOFFSETTO:+0300
TZNAME:EEST
DTSTART:20260423T220000
END:DAYLIGHT
BEGIN:STANDARD
TZOFFSETFROM:+0300
TZOFFSETTO:+0200
TZNAME:EET
DTSTART:20261029T210000
END:STANDARD
END:VTIMEZONE
BEGIN:VEVENT
DTSTART;TZID=Africa/Cairo:20251110T000000
DTEND;TZID=Africa/Cairo:20251121T235900
DTSTAMP:20260420T014231
CREATED:20250928T113313Z
LAST-MODIFIED:20250929T090837Z
UID:9424-1762732800-1763769540@2025.cedare.org
SUMMARY:COP30
DESCRIPTION:COP30 to take place 10-21 November 2025 in Belém\, Brazil. The 30th UN climate conference will take place from 10-21 November 2025 in Belém\, Brazil. It will bring together world leaders\, scientists\, non-governmental organizations\, and civil society to discuss priority actions to tackle climate change.
URL:https://2025.cedare.org/event/cop30/
LOCATION:BELEM\, Brazil
ATTACH;FMTTYPE=image/png:https://2025.cedare.org/wp-content/uploads/2025/08/Frame-38.png
END:VEVENT
BEGIN:VEVENT
DTSTART;VALUE=DATE:20251121
DTEND;VALUE=DATE:20251122
DTSTAMP:20260420T014231
CREATED:20250929T114235Z
LAST-MODIFIED:20250929T114235Z
UID:9494-1763683200-1763769599@2025.cedare.org
SUMMARY:World Fisheries Day
DESCRIPTION:World Fisheries Day is celebrated every year on 21 November to highlight the importance of healthy ocean ecosystems and to ensure sustainable stocks of fisheries. \nKey Facts: \nFirst observed in 1997\, following the World Fisheries Forum held in New Delhi\, India. \nRecognizes the vital role of fisheries in providing food security\, livelihoods\, and economic support for millions of people worldwide. \nHighlights the challenges of overfishing\, habitat destruction\, and the need to protect marine biodiversity. \nCelebrated through rallies\, workshops\, cultural programs\, exhibitions\, and awareness campaigns in fishing communities around the world. \nObjectives: \nPromote sustainable fishing practices. \nProtect marine resources for future generations. \nRaise awareness about the social\, economic\, and environmental importance of fisheries.
URL:https://2025.cedare.org/event/world-fisheries-day/
ATTACH;FMTTYPE=image/png:https://2025.cedare.org/wp-content/uploads/2025/08/Frame-38.png
END:VEVENT
BEGIN:VEVENT
DTSTART;VALUE=DATE:20251124
DTEND;VALUE=DATE:20251206
DTSTAMP:20260420T014231
CREATED:20251126T123506Z
LAST-MODIFIED:20251126T123506Z
UID:10612-1763942400-1764979199@2025.cedare.org
SUMMARY:Twentieth meeting of the Conference of the Parties
DESCRIPTION:Silkroad Samarkand Expo Center\, Samarkand\, Uzbekistan\, 24 November – 05 December 2025
URL:https://2025.cedare.org/event/twentieth-meeting-of-the-conference-of-the-parties/
ATTACH;FMTTYPE=image/png:https://2025.cedare.org/wp-content/uploads/2025/08/Frame-38.png
END:VEVENT
END:VCALENDAR