BEGIN:VCALENDAR
VERSION:2.0
PRODID:-//CEDARE - ECPv6.15.20//NONSGML v1.0//EN
CALSCALE:GREGORIAN
METHOD:PUBLISH
X-ORIGINAL-URL:https://2025.cedare.org
X-WR-CALDESC:Events for CEDARE
REFRESH-INTERVAL;VALUE=DURATION:PT1H
X-Robots-Tag:noindex
X-PUBLISHED-TTL:PT1H
BEGIN:VTIMEZONE
TZID:Africa/Cairo
BEGIN:DAYLIGHT
TZOFFSETFROM:+0200
TZOFFSETTO:+0300
TZNAME:EEST
DTSTART:20250424T220000
END:DAYLIGHT
BEGIN:STANDARD
TZOFFSETFROM:+0300
TZOFFSETTO:+0200
TZNAME:EET
DTSTART:20251030T210000
END:STANDARD
BEGIN:DAYLIGHT
TZOFFSETFROM:+0200
TZOFFSETTO:+0300
TZNAME:EEST
DTSTART:20260423T220000
END:DAYLIGHT
BEGIN:STANDARD
TZOFFSETFROM:+0300
TZOFFSETTO:+0200
TZNAME:EET
DTSTART:20261029T210000
END:STANDARD
BEGIN:DAYLIGHT
TZOFFSETFROM:+0200
TZOFFSETTO:+0300
TZNAME:EEST
DTSTART:20270429T220000
END:DAYLIGHT
BEGIN:STANDARD
TZOFFSETFROM:+0300
TZOFFSETTO:+0200
TZNAME:EET
DTSTART:20271028T210000
END:STANDARD
END:VTIMEZONE
BEGIN:VEVENT
DTSTART;VALUE=DATE:20260126
DTEND;VALUE=DATE:20260127
DTSTAMP:20260420T000721
CREATED:20260128T082236Z
LAST-MODIFIED:20260128T082306Z
UID:11126-1769385600-1769471999@2025.cedare.org
SUMMARY:International Day for Clean Energy
DESCRIPTION:The International Day of Clean Energy on 26 January was declared by the General Assembly (resolution A/77/327) as a call to raise awareness and mobilize action for a just and inclusive transition to clean energy for the benefit of people and the planet. \n26 January is also the founding date of the International Renewable Energy Agency (IRENA)\, a global intergovernmental agency established in 2009 to support countries in their energy transitions\, serve as a platform for international cooperation\, and provide data and analyses on clean energy technology\, innovation\, policy\, finance and investment.
URL:https://2025.cedare.org/event/international-day-for-clean-energy/
ATTACH;FMTTYPE=image/png:https://2025.cedare.org/wp-content/uploads/2025/08/Frame-38.png
END:VEVENT
END:VCALENDAR