BEGIN:VCALENDAR
VERSION:2.0
PRODID:-//CEDARE - ECPv6.15.20//NONSGML v1.0//EN
CALSCALE:GREGORIAN
METHOD:PUBLISH
X-WR-CALNAME:CEDARE
X-ORIGINAL-URL:https://2025.cedare.org
X-WR-CALDESC:Events for CEDARE
REFRESH-INTERVAL;VALUE=DURATION:PT1H
X-Robots-Tag:noindex
X-PUBLISHED-TTL:PT1H
BEGIN:VTIMEZONE
TZID:Africa/Cairo
BEGIN:DAYLIGHT
TZOFFSETFROM:+0200
TZOFFSETTO:+0300
TZNAME:EEST
DTSTART:20250424T220000
END:DAYLIGHT
BEGIN:STANDARD
TZOFFSETFROM:+0300
TZOFFSETTO:+0200
TZNAME:EET
DTSTART:20251030T210000
END:STANDARD
BEGIN:DAYLIGHT
TZOFFSETFROM:+0200
TZOFFSETTO:+0300
TZNAME:EEST
DTSTART:20260423T220000
END:DAYLIGHT
BEGIN:STANDARD
TZOFFSETFROM:+0300
TZOFFSETTO:+0200
TZNAME:EET
DTSTART:20261029T210000
END:STANDARD
BEGIN:DAYLIGHT
TZOFFSETFROM:+0200
TZOFFSETTO:+0300
TZNAME:EEST
DTSTART:20270429T220000
END:DAYLIGHT
BEGIN:STANDARD
TZOFFSETFROM:+0300
TZOFFSETTO:+0200
TZNAME:EET
DTSTART:20271028T210000
END:STANDARD
END:VTIMEZONE
BEGIN:VEVENT
DTSTART;VALUE=DATE:20260303
DTEND;VALUE=DATE:20260304
DTSTAMP:20260419T191602
CREATED:20250929T064721Z
LAST-MODIFIED:20250929T073541Z
UID:9434-1772496000-1772582399@2025.cedare.org
SUMMARY:World Wildlife Day
DESCRIPTION:World Wildlife Day is on March 3 every year to raise awareness of endangered animals and plants\, and ways to fight against wildlife crime. \nAbout World Wildlife Day\nWildlife trade is one of the most profitable illicit trades in the world\, estimated at up to $10 billion annually. Illegal wildlife trade of elephant ivory\, rhino horns\, and tiger products\, is widespread in many countries\, particularly in Asia and Africa. It is controlled by dangerous crime syndicates that traffic wildlife like drugs or weapons. \nOn December 20\, 2013\, the UN added World Wildlife Day to its calendar as an official event to be celebrated from March 3\, 2014\, onwards. It declared the day out of concern that wildlife crime had negative economic\, environmental and social impacts worldwide.
URL:https://2025.cedare.org/event/world-wildlife-day/
ATTACH;FMTTYPE=image/png:https://2025.cedare.org/wp-content/uploads/2025/08/Frame-38.png
END:VEVENT
BEGIN:VEVENT
DTSTART;VALUE=DATE:20260308
DTEND;VALUE=DATE:20260309
DTSTAMP:20260419T191602
CREATED:20250929T064908Z
LAST-MODIFIED:20250929T072923Z
UID:9436-1772928000-1773014399@2025.cedare.org
SUMMARY:International Women’s Day
DESCRIPTION:International Women’s Day (8 March) is an occasion marked by women’s groups around the world. This date is also commemorated at the United Nations and is designated in many countries as a national holiday. When women on all continents\, often divided by national boundaries and by ethnic\, linguistic\, cultural\, economic and political differences\, come together to celebrate their Day\, they can look back to a tradition that represents at least nine decades of struggle for equality\, justice\, peace and development. \nWomen’s Achievements and Challenges\nThe purpose of International Women’s Day (IWD) is to uphold women’s achievements\, recognize challenges\, and focus greater attention on women’s rights and gender equality. It is celebrated worldwide to spotlight women\, their issues and achievements\, and has a different theme each year. \n“The world has made unprecedented advances\, but no country has achieved gender equality.” writes the United Nations\, and has set a goal for gender equality by 2030. The UN sees International Women’s Day as “a time to reflect on progress made\, to call for change and to celebrate acts of courage and determination by ordinary women\, who have played an extraordinary role in the history of their countries and communities.” \nEvents and Marches\nAccording to the United Nations\, women earn 23% less than men globally and occupy only 24% of parliamentary seats worldwide. On International Women’s Day\, March 8\, various events are held worldwide. Like seminars\, marches\, and concerts\, the events celebrate women and highlight the inequalities that women experience worldwide. The focus at the events picks up on various themes such as innovation\, the portrayal of women in the media\, or the importance of education and career opportunities. \nWomen of all backgrounds: Political\, community\, and business leaders\, as well as leading educators\, inventors\, entrepreneurs\, and television personalities\, are usually invited to speak on the day. \nPublic Holiday in Many Countries\nInternational Women’s Day is a public holiday in Angola\, Armenia\, Azerbaijan\, Belarus\, Burkina Faso\, Cambodia\, China (half-day for women)\, Eritrea\, Germany (some areas)\, Georgia\, Guinea-Bissau\, Kazakhstan\, Kyrgyzstan\, Kiribati\, Laos (women only)\, Madagasgar (women only)\, Moldova\, Mongolia\, Nauru\, North Korea\, Russia\, Sierra Leone\, Tajikistan\, Turkmenistan\, Ukraine\, Uganda\, Uzbekistan\, and Zambia. \nInternational Women’s Day is a national observance in many other countries. \nThe History of International Women’s Day\nWe observe it on March 8. This date was chosen by the United Nations as International Women’s Day to commemorate a women’s demonstration in Petrograd (Saint Petersburg)\, Russia\, in 1917 that marked the turning point in the Russian revolution. In 1917\, Russia still followed the Julian calendar\, so the demonstration took place on February 23\, which in the western Gregorian calendar is March 8. \nThe UN drew global attention to women’s concerns in 1975 by calling for an International Women’s Year. It also convened the first conference on women in Mexico City that year. The UN General Assembly then invited member states to proclaim March 8 as the UN Day for Women’s Rights and International Peace in 1977. The day aimed to help nations worldwide eliminate discrimination against women. It also focused on helping women gain full and equal participation in global development. International Men’s Day is celebrated on November 19 each year.
URL:https://2025.cedare.org/event/international-womens-day/
ATTACH;FMTTYPE=image/png:https://2025.cedare.org/wp-content/uploads/2025/08/Frame-38.png
END:VEVENT
BEGIN:VEVENT
DTSTART;VALUE=DATE:20260321
DTEND;VALUE=DATE:20260322
DTSTAMP:20260419T191602
CREATED:20250929T070207Z
LAST-MODIFIED:20250929T070207Z
UID:9438-1774051200-1774137599@2025.cedare.org
SUMMARY:International Day of Forests
DESCRIPTION:Celebrate International Day of Forests\nThe UN works with governments\, community organizations\, and the general public to promote both local and global activities for the International Day of Forests. Activities include: \n\nTree planting campaigns.\nPhoto exhibits that portray the importance forests and trees.\nSharing infographics\, videos\, news and messages via social and other media.\n\nPublic Life\nInternational Day of Forests is a global observance and not a public holiday. \nAbout International Day of Forests\nForests cover about one third of the world’s land mass. Roughly 1.6 billion people\, including more than 2000 indigenous cultures\, depend on forests for their livelihood. Forests are vital to the planet for many reasons\, including: \n\nProviding shelter for more than half of the terrestrial species of animals\, plants and insects.\nContributing to the balance of oxygen\, carbon dioxide and humidity in the air.\nProtecting watersheds\, which supply fresh water to rivers.\n\nThe UN first celebrated the International Day of Forests on March 21\, 2013. This initiative follows from the International Year of Forests. \nDid You Know?\nDeforestation accounts for 12 to 20 percent of the global greenhouse gas emissions that contribute to global warming\, according to the UN.
URL:https://2025.cedare.org/event/international-day-of-forests/
ATTACH;FMTTYPE=image/png:https://2025.cedare.org/wp-content/uploads/2025/08/Frame-38.png
END:VEVENT
BEGIN:VEVENT
DTSTART;VALUE=DATE:20260322
DTEND;VALUE=DATE:20260323
DTSTAMP:20260419T191602
CREATED:20250929T074847Z
LAST-MODIFIED:20250929T075553Z
UID:9449-1774137600-1774223999@2025.cedare.org
SUMMARY:World Water Day
DESCRIPTION:The United Nations’ (UN) World Water Day is held on March 22 each year. Events are organized on or around this day to increase people’s awareness of water’s importance in environment\, agriculture\, health and trade. \nBackground\nAgenda 21 is a worldwide action plan for areas where human activities may affect the environment. It was adopted at the UN Conference on Environment and Development in Rio de Janeiro\, Brazil\, in June 1992. Agenda 21 recommended various measures\, including creating World Water Day. \nThe UN General Assembly adopted a resolution on December 22\, 1992\, declaring March 22 to be the World Day for Water each year. Countries were encouraged to develop activities to highlight local needs for water. The first World Day for Water was observed in 1993. \nThe Water for Life Decade was launched on World Water Day in 2005. This decade will run from 2005 to 2015 and give a high profile to women’s participation and the UN’s water-related programs.
URL:https://2025.cedare.org/event/world-water-day/
ATTACH;FMTTYPE=image/png:https://2025.cedare.org/wp-content/uploads/2025/08/Frame-38.png
END:VEVENT
BEGIN:VEVENT
DTSTART;TZID=Africa/Cairo:20260328T203000
DTEND;TZID=Africa/Cairo:20260328T213000
DTSTAMP:20260419T191602
CREATED:20250929T080543Z
LAST-MODIFIED:20250929T082509Z
UID:9451-1774729800-1774733400@2025.cedare.org
SUMMARY:Earth Hour
DESCRIPTION:Earth Hour is an annual environmental campaign that brings attention to the effects of climate change by asking people to switch off lights at homes and businesses for an hour at 8.30 pm (20:30)\, local time\, usually on the last Saturday of March. \nIn 2025\, CEDARE supported Earth Hour by raising awareness on its official website and Social Media and marking the occasion with a special online initiative. \nAbout Earth Hour\nEarth Hour is a global WWF (formerly known as World Wildlife Fund) climate change initiative. It is an event that aims to create awareness of people taking responsibility toward a sustainable future by turning the lights off. Earth Hour is not to be confused with Earth Day. \nBackground\nEarth Hour started in Sydney\, Australia\, in 2007. This event saw 2.2 million homes and businesses turn their lights off for one hour to make their stand against climate change that year. Earth Hour had become a global sustainability movement with more than 50 million people across 35 countries participating in 2008. Global landmarks such as the\, Sydney Harbour Bridge\, the CN Tower in Toronto\, the Golden Gate Bridge in San Francisco\, and Rome’s Colosseum\, all stood in darkness for Earth Hour. In March 2009\, hundreds of millions of people took part in the third Earth Hour. \nWWF\, which organizes the annual Earth Hour event\, aims to stop the degradation of the Earth’s natural environment. It also focuses on building a future where people live in harmony with nature.
URL:https://2025.cedare.org/event/earth-hour/
ATTACH;FMTTYPE=image/png:https://2025.cedare.org/wp-content/uploads/2025/08/Frame-38.png
END:VEVENT
BEGIN:VEVENT
DTSTART;VALUE=DATE:20260330
DTEND;VALUE=DATE:20260331
DTSTAMP:20260419T191602
CREATED:20250929T083258Z
LAST-MODIFIED:20250929T083258Z
UID:9456-1774828800-1774915199@2025.cedare.org
SUMMARY:International Day of Zero Waste
DESCRIPTION:The International Day of Zero Waste is observed annually on March 30. The United Nations General Assembly adopted a resolution on December 14\, 2022\, to designate this day to raise awareness about waste management and promote sustainable practices. \nDate: March 30 each year. \nPurpose: To highlight the importance of sustainable waste management and encourage the transition to a circular economy. \nOrganizers: The United Nations Environment Programme (UNEP) and the UN Human Settlements Programme (UN-Habitat) facilitate the observance. \n 
URL:https://2025.cedare.org/event/international-day-of-zero-waste/
ATTACH;FMTTYPE=image/png:https://2025.cedare.org/wp-content/uploads/2025/08/Frame-38.png
END:VEVENT
END:VCALENDAR