BEGIN:VCALENDAR
VERSION:2.0
PRODID:-//CEDARE - ECPv6.15.20//NONSGML v1.0//EN
CALSCALE:GREGORIAN
METHOD:PUBLISH
X-ORIGINAL-URL:https://2025.cedare.org
X-WR-CALDESC:Events for CEDARE
REFRESH-INTERVAL;VALUE=DURATION:PT1H
X-Robots-Tag:noindex
X-PUBLISHED-TTL:PT1H
BEGIN:VTIMEZONE
TZID:Africa/Cairo
BEGIN:DAYLIGHT
TZOFFSETFROM:+0200
TZOFFSETTO:+0300
TZNAME:EEST
DTSTART:20250424T220000
END:DAYLIGHT
BEGIN:STANDARD
TZOFFSETFROM:+0300
TZOFFSETTO:+0200
TZNAME:EET
DTSTART:20251030T210000
END:STANDARD
BEGIN:DAYLIGHT
TZOFFSETFROM:+0200
TZOFFSETTO:+0300
TZNAME:EEST
DTSTART:20260423T220000
END:DAYLIGHT
BEGIN:STANDARD
TZOFFSETFROM:+0300
TZOFFSETTO:+0200
TZNAME:EET
DTSTART:20261029T210000
END:STANDARD
BEGIN:DAYLIGHT
TZOFFSETFROM:+0200
TZOFFSETTO:+0300
TZNAME:EEST
DTSTART:20270429T220000
END:DAYLIGHT
BEGIN:STANDARD
TZOFFSETFROM:+0300
TZOFFSETTO:+0200
TZNAME:EET
DTSTART:20271028T210000
END:STANDARD
END:VTIMEZONE
BEGIN:VEVENT
DTSTART;VALUE=DATE:20260512
DTEND;VALUE=DATE:20260513
DTSTAMP:20260419T191722
CREATED:20250929T084454Z
LAST-MODIFIED:20250929T084454Z
UID:9460-1778544000-1778630399@2025.cedare.org
SUMMARY:International Day of Plant Health
DESCRIPTION:The International Day of Plant Health is an annual observance that takes place on May 12th. This date is designated to raise global awareness about the critical importance of plant health in maintaining food security\, protecting the environment\, and boosting economic prosperity.  \n\n\n\n\n\n\n\n\n\n\n\n\nKey Aspects of the Day\n\n\n\n\n\n\n\n\n\nGlobal Awareness: \nThe primary goal is to highlight how protecting plants from diseases and pests is essential for overall human\, animal\, and environmental well-being.  \n\n\n\n\n\n\n\n\n\n\n\n\n\n\n\nPurpose: \nBy promoting plant health\, the day aims to end hunger\, reduce poverty\, protect biodiversity\, and ensure sustainable development.  \n\n\n\n\n\n\n\n\n\n\n\n\n\n\n\nCall to Action: \nOrganizations and individuals are encouraged to participate by raising awareness\, taking action to protect plants\, and getting involved in events or campaigns related to plant health. 
URL:https://2025.cedare.org/event/international-day-of-plant-health/
ATTACH;FMTTYPE=image/png:https://2025.cedare.org/wp-content/uploads/2025/08/Frame-38.png
END:VEVENT
BEGIN:VEVENT
DTSTART;VALUE=DATE:20260522
DTEND;VALUE=DATE:20260523
DTSTAMP:20260419T191722
CREATED:20250929T085459Z
LAST-MODIFIED:20250929T085459Z
UID:9462-1779408000-1779494399@2025.cedare.org
SUMMARY:International Day for Biological Diversity
DESCRIPTION:On May 22\, 1992\, the text of the Convention on Biological Diversity was adopted by the of the United Nations at a conference in Nairobi\, Kenya. Since 2001\, the International Day for Biological Diversity is celebrated each year on the anniversary of this date. \nBackground\nIn 1992 state and government leaders agreed on a strategy for sustainable development at the United Nations Conference on Environment and Development\, also known as “The Earth Summit”\, in Rio de Janeiro\, Brazil. Sustainable development is a way to meet the needs of people all over the world and ensuring that planet earth remains healthy and viable for future generations. One of the most important agreements reached during the Earth Summit was the Convention on Biological Diversity. \nThe Convention on Biological Diversity came into force on December 29\, 1993\, and each anniversary of this date was designated the International Day for Biological Diversity. From 2001 onwards the date of this celebration was moved to May 22 due to the number of holidays that fell in late December. On this date in 1992\, the text of the Convention on Biological Diversity was adopted at a United Nations at a conference in Nairobi\, Kenya. \nEach year\, the International Day for Biodiversity focuses on a particular theme. Recently\, the themes have been: Biodiversity and Poverty Alleviation (2003); Biodiversity: Food\, Water and Health for All (2004); Biodiversity: Life Insurance for our Changing World (2005); Protect Biodiversity in Drylands (2006); and Biodiversity and Climate Change (2007); and Biodiversity and Agriculture (2008).
URL:https://2025.cedare.org/event/international-day-for-biological-diversity/
ATTACH;FMTTYPE=image/png:https://2025.cedare.org/wp-content/uploads/2025/08/Frame-38.png
END:VEVENT
END:VCALENDAR